BEGIN:VCALENDAR
VERSION:2.0
PRODID:-//Sofia Gymnastikförening - ECPv6.10.2//NONSGML v1.0//EN
CALSCALE:GREGORIAN
METHOD:PUBLISH
X-WR-CALNAME:Sofia Gymnastikförening
X-ORIGINAL-URL:https://sofiagf.se
X-WR-CALDESC:Events for Sofia Gymnastikförening
REFRESH-INTERVAL;VALUE=DURATION:PT1H
X-Robots-Tag:noindex
X-PUBLISHED-TTL:PT1H
BEGIN:VTIMEZONE
TZID:Europe/Stockholm
BEGIN:DAYLIGHT
TZOFFSETFROM:+0100
TZOFFSETTO:+0200
TZNAME:CEST
DTSTART:20240331T010000
END:DAYLIGHT
BEGIN:STANDARD
TZOFFSETFROM:+0200
TZOFFSETTO:+0100
TZNAME:CET
DTSTART:20241027T010000
END:STANDARD
BEGIN:DAYLIGHT
TZOFFSETFROM:+0100
TZOFFSETTO:+0200
TZNAME:CEST
DTSTART:20250330T010000
END:DAYLIGHT
BEGIN:STANDARD
TZOFFSETFROM:+0200
TZOFFSETTO:+0100
TZNAME:CET
DTSTART:20251026T010000
END:STANDARD
BEGIN:DAYLIGHT
TZOFFSETFROM:+0100
TZOFFSETTO:+0200
TZNAME:CEST
DTSTART:20260329T010000
END:DAYLIGHT
BEGIN:STANDARD
TZOFFSETFROM:+0200
TZOFFSETTO:+0100
TZNAME:CET
DTSTART:20261025T010000
END:STANDARD
END:VTIMEZONE
BEGIN:VEVENT
DTSTART;TZID=Europe/Stockholm:20260313T170000
DTEND;TZID=Europe/Stockholm:20260313T190000
DTSTAMP:20260426T025522
CREATED:20260226T140843Z
LAST-MODIFIED:20260226T140843Z
UID:4109-1773421200-1773428400@sofiagf.se
SUMMARY:Tematräning: Pyjamasgympa
DESCRIPTION:Välkommen på tematräning den 13 mars!\nEndast för medlemmar födda 2017-2020. \nInformation \n\nDatum: 13 mars\nPlats: Sofia skola\nKostnad: 250 kronor\nTema/klädsel: Pyjamas\n\nMer info och anmälan har gått ut på mail till inbjudna gymnaster!
URL:https://sofiagf.se/evenemang/tematraning-pyjamasgympa-3/
LOCATION:Sofia skola\, Skånegatan 117\, Stockholm\, 116 35
CATEGORIES:Tematräning
ATTACH;FMTTYPE=image/jpeg:https://sofiagf.se/wp-content/uploads/2024/03/IMG_6010-scaled.jpg
END:VEVENT
BEGIN:VEVENT
DTSTART;VALUE=DATE:20251108
DTEND;VALUE=DATE:20251109
DTSTAMP:20260426T025522
CREATED:20250904T105551Z
LAST-MODIFIED:20250904T105852Z
UID:3901-1762560000-1762646399@sofiagf.se
SUMMARY:Tematräning: 80-talsgympa!
DESCRIPTION:Välkommen på tematräning den 8 november!\nEndast för medlemmar födda 2014-2016. \nInformation \n\nDatum: Lördag 8 november\nPlats: Mälarhöjdens gymnastikhall\, T-bana Fruängen\nPris: 250 kronor\nTema/klädsel: 80-talet.\n\nKom och gympa i din snyggaste 80-tals-dress – upp med håret\, på med benvärmarna så ses vi! \nMer info och anmälan kommer!
URL:https://sofiagf.se/evenemang/tematraning-80-talsgympa/
LOCATION:Mälarhöjdshallen\, Lotta Svärds Gränd 2\, 12954
CATEGORIES:Tematräning
ATTACH;FMTTYPE=image/jpeg:https://sofiagf.se/wp-content/uploads/2024/03/IMG_6010-scaled.jpg
END:VEVENT
BEGIN:VEVENT
DTSTART;VALUE=DATE:20251107
DTEND;VALUE=DATE:20251108
DTSTAMP:20260426T025522
CREATED:20250904T105954Z
LAST-MODIFIED:20250904T105954Z
UID:3899-1762473600-1762559999@sofiagf.se
SUMMARY:Tematräning: Discogympa!
DESCRIPTION:Välkommen på tematräning den 7 november!\nEndast för medlemmar födda 2017-2020. \nInformation \n\nDatum: 7 november\nPlats: Sofia skola\nKostnad: 250 kronor\nTema/klädsel: Disco/glitter\n\nMer info och anmälan kommer snart!
URL:https://sofiagf.se/evenemang/tematraning-discogympa/
LOCATION:Sofia skola\, Skånegatan 117\, Stockholm\, 116 35
CATEGORIES:Tematräning
ATTACH;FMTTYPE=image/jpeg:https://sofiagf.se/wp-content/uploads/2024/03/IMG_6010-scaled.jpg
END:VEVENT
BEGIN:VEVENT
DTSTART;VALUE=DATE:20250315
DTEND;VALUE=DATE:20250316
DTSTAMP:20260426T025522
CREATED:20250212T121504Z
LAST-MODIFIED:20250212T121709Z
UID:3760-1741996800-1742083199@sofiagf.se
SUMMARY:Tematräning: Pyjamasgympa
DESCRIPTION:Välkommen på tematräning den 15 mars!\nEndast för medlemmar födda 2011-2015. \nInformation \n\nDatum: 15 nars\nPlats: Mälarhöjdens gymnastikhall\, T-bana Fruängen\nKostnad: 200 kronor\nTema/klädsel: Pyjamas\n\nFörst till kvarn! \nMer information och bokning görs vid Sportadmins bokningsfunktion.
URL:https://sofiagf.se/evenemang/tematraning-pyjamasgympa-2/
LOCATION:Mälarhöjdshallen\, Lotta Svärds Gränd 2\, 12954
CATEGORIES:Tematräning
ATTACH;FMTTYPE=image/jpeg:https://sofiagf.se/wp-content/uploads/2024/03/IMG_6010-scaled.jpg
END:VEVENT
BEGIN:VEVENT
DTSTART;VALUE=DATE:20250314
DTEND;VALUE=DATE:20250315
DTSTAMP:20260426T025522
CREATED:20250212T121252Z
LAST-MODIFIED:20250212T121740Z
UID:3758-1741910400-1741996799@sofiagf.se
SUMMARY:Tematräning: Pyjamasgympa
DESCRIPTION:Välkommen på tematräning den 14 mars!\nEndast för medlemmar födda 2016-2019. \nInformation \n\nDatum: 14 mars\nPlats: Sofia skola\nKostnad: 200 kronor\nTema/klädsel: Pyjamas\n\nMejl går ut i samband med att bokningen öppnar. \nMer information och bokning görs vid Sportadmins bokningsfunktion. \nFörst till kvarn!
URL:https://sofiagf.se/evenemang/tematraning-pyjamasgympa/
LOCATION:Sofia skola\, Skånegatan 117\, Stockholm\, 116 35
CATEGORIES:Tematräning
ATTACH;FMTTYPE=image/jpeg:https://sofiagf.se/wp-content/uploads/2024/03/IMG_6010-scaled.jpg
END:VEVENT
BEGIN:VEVENT
DTSTART;TZID=Europe/Stockholm:20241206T170000
DTEND;TZID=Europe/Stockholm:20241206T190000
DTSTAMP:20260426T025522
CREATED:20240927T101642Z
LAST-MODIFIED:20240927T101757Z
UID:3644-1733504400-1733511600@sofiagf.se
SUMMARY:Tematräning: Nissegympa
DESCRIPTION:Välkommen på tematräning den 6 december!\nEndast för medlemmar födda 2016-2019. \nInformation \n\nDatum: 6 december\nPlats: Sofia skola\nKostnad: 200 kronor\nTema/klädsel: Tomtenisse\n\nMejl går ut i samband med att bokningen öppnar. \nMer information och bokning görs vid Sportadmins bokningsfunktion.
URL:https://sofiagf.se/evenemang/tematraning-nissegympa/
LOCATION:Sofia skola\, Skånegatan 117\, Stockholm\, 116 35
CATEGORIES:Tematräning
ATTACH;FMTTYPE=image/jpeg:https://sofiagf.se/wp-content/uploads/2022/12/Nisse.jpg
END:VEVENT
BEGIN:VEVENT
DTSTART;TZID=Europe/Stockholm:20241019T180000
DTEND;TZID=Europe/Stockholm:20241019T203000
DTSTAMP:20260426T025522
CREATED:20240927T100706Z
LAST-MODIFIED:20240927T100949Z
UID:3641-1729360800-1729369800@sofiagf.se
SUMMARY:Tematräning: Halloweenträning
DESCRIPTION:Välkommen på tematräning den 19 oktober!\nEndast för medlemmar födda 2011-2015. \nInformation \n\nDatum: 19 oktober\nPlats: Mälarhöjdens gymnastikhall\, T-bana Fruängen\nKostnad: 200 kronor\nTema/klädsel: Halloween (inget ansiktssmink på gymnaster\, det förstör hallens redskap)\n\nFörst till kvarn! \nMer information och bokning görs vid Sportadmins bokningsfunktion.
URL:https://sofiagf.se/evenemang/tematraning-halloweentraning/
LOCATION:Mälarhöjdshallen\, Lotta Svärds Gränd 2\, 12954
CATEGORIES:Tematräning
ATTACH;FMTTYPE=image/jpeg:https://sofiagf.se/wp-content/uploads/2022/10/Halloweentraning.jpg
END:VEVENT
BEGIN:VEVENT
DTSTART;TZID=Europe/Stockholm:20240419T170000
DTEND;TZID=Europe/Stockholm:20240419T190000
DTSTAMP:20260426T025522
CREATED:20240313T095329Z
LAST-MODIFIED:20240313T095329Z
UID:3506-1713546000-1713553200@sofiagf.se
SUMMARY:Tematräning: Pyjamasgympa 19 april
DESCRIPTION:Välkommen på tematräning fredagen 19 april! Ta på dig din skönaste pyjamas och följ med på vårt pyjamasparty!\nEndast för medlemmar i våra Mini – och Knattelag. \nInformation \n\nDatum: 19 april\nPlats: Sofia skola\nKostnad: 150 kronor\nKlädsel: Er mysigaste pyjamas som går att gympa i\n\nFörst till kvarn. \nMer information och bokning görs vid Sportadmins bokningsfunktion.
URL:https://sofiagf.se/evenemang/tematraning-pyjamasgympa-19-april/
LOCATION:Sofia skola\, Skånegatan 117\, Stockholm\, 116 35
CATEGORIES:Tematräning
ATTACH;FMTTYPE=image/jpeg:https://sofiagf.se/wp-content/uploads/2024/03/IMG_6010-scaled.jpg
END:VEVENT
BEGIN:VEVENT
DTSTART;TZID=Europe/Stockholm:20240413T180000
DTEND;TZID=Europe/Stockholm:20240413T203000
DTSTAMP:20260426T025522
CREATED:20240312T093918Z
LAST-MODIFIED:20240313T100436Z
UID:3500-1713031200-1713040200@sofiagf.se
SUMMARY:Tematräning: Pyjamasgympa 13 april
DESCRIPTION:Välkommen på tematräning lördagen 13 april! Ta på dig din skönaste pyjamas och följ med på vårt pyjamasparty!\nEndast för medlemmar i våra Minorlag. \nInformation \n\nDatum: 13 april\nPlats: Mälarhöjdens gymnastikhall\, T-bana Fruängen\nKostnad: 150 kronor\nKlädsel: Er mysigaste pyjamas som går att gympa i\n\nFörst till kvarn. \nMer information och bokning görs vid Sportadmins bokningsfunktion.
URL:https://sofiagf.se/evenemang/tematraning-pyjamasgympa-13-april/
LOCATION:Mälarhöjdshallen\, Lotta Svärds Gränd 2\, 12954
CATEGORIES:Tematräning
ATTACH;FMTTYPE=image/jpeg:https://sofiagf.se/wp-content/uploads/2024/03/IMG_6010-scaled.jpg
END:VEVENT
END:VCALENDAR