BEGIN:VCALENDAR
VERSION:2.0
PRODID:-//Sofia Gymnastikförening - ECPv6.10.2//NONSGML v1.0//EN
CALSCALE:GREGORIAN
METHOD:PUBLISH
X-WR-CALNAME:Sofia Gymnastikförening
X-ORIGINAL-URL:https://sofiagf.se
X-WR-CALDESC:Events for Sofia Gymnastikförening
REFRESH-INTERVAL;VALUE=DURATION:PT1H
X-Robots-Tag:noindex
X-PUBLISHED-TTL:PT1H
BEGIN:VTIMEZONE
TZID:Europe/Stockholm
BEGIN:DAYLIGHT
TZOFFSETFROM:+0100
TZOFFSETTO:+0200
TZNAME:CEST
DTSTART:20260329T010000
END:DAYLIGHT
BEGIN:STANDARD
TZOFFSETFROM:+0200
TZOFFSETTO:+0100
TZNAME:CET
DTSTART:20261025T010000
END:STANDARD
END:VTIMEZONE
BEGIN:VEVENT
DTSTART;TZID=Europe/Stockholm:20260313T170000
DTEND;TZID=Europe/Stockholm:20260313T190000
DTSTAMP:20260426T054818
CREATED:20260226T140843Z
LAST-MODIFIED:20260226T140843Z
UID:4109-1773421200-1773428400@sofiagf.se
SUMMARY:Tematräning: Pyjamasgympa
DESCRIPTION:Välkommen på tematräning den 13 mars!\nEndast för medlemmar födda 2017-2020. \nInformation \n\nDatum: 13 mars\nPlats: Sofia skola\nKostnad: 250 kronor\nTema/klädsel: Pyjamas\n\nMer info och anmälan har gått ut på mail till inbjudna gymnaster!
URL:https://sofiagf.se/evenemang/tematraning-pyjamasgympa-3/
LOCATION:Sofia skola\, Skånegatan 117\, Stockholm\, 116 35
CATEGORIES:Tematräning
ATTACH;FMTTYPE=image/jpeg:https://sofiagf.se/wp-content/uploads/2024/03/IMG_6010-scaled.jpg
END:VEVENT
END:VCALENDAR