BEGIN:VCALENDAR
VERSION:2.0
PRODID:-//Sofia Gymnastikförening - ECPv6.10.2//NONSGML v1.0//EN
CALSCALE:GREGORIAN
METHOD:PUBLISH
X-WR-CALNAME:Sofia Gymnastikförening
X-ORIGINAL-URL:https://sofiagf.se
X-WR-CALDESC:Events for Sofia Gymnastikförening
REFRESH-INTERVAL;VALUE=DURATION:PT1H
X-Robots-Tag:noindex
X-PUBLISHED-TTL:PT1H
BEGIN:VTIMEZONE
TZID:Europe/Stockholm
BEGIN:DAYLIGHT
TZOFFSETFROM:+0100
TZOFFSETTO:+0200
TZNAME:CEST
DTSTART:20240331T010000
END:DAYLIGHT
BEGIN:STANDARD
TZOFFSETFROM:+0200
TZOFFSETTO:+0100
TZNAME:CET
DTSTART:20241027T010000
END:STANDARD
END:VTIMEZONE
BEGIN:VEVENT
DTSTART;TZID=Europe/Stockholm:20240226T090000
DTEND;TZID=Europe/Stockholm:20240227T160000
DTSTAMP:20260426T025743
CREATED:20240226T121039Z
LAST-MODIFIED:20240226T142805Z
UID:3471-1708938000-1709049600@sofiagf.se
SUMMARY:Sportlovsläger
DESCRIPTION:Välkommen på dagläger under sportovet!\nEndast för medlemmar. \nInformation \n\nDatum: 26-27 februari\nPlats: Mälarhöjdens gymnastikhall\, T-bana Fruängen\nKostnad: 400 kronor\n\nFörst till kvarn. \nMer information och bokning görs vid Sportadmins bokningsfunktion.
URL:https://sofiagf.se/evenemang/sportlovslager/
LOCATION:Mälarhöjdshallen\, Lotta Svärds Gränd 2\, 12954
CATEGORIES:Dagläger,Lägerverksamhet
ATTACH;FMTTYPE=image/jpeg:https://sofiagf.se/wp-content/uploads/2024/02/Varmt-valkomna-till-en-ny-hosttermin-.jpeg
END:VEVENT
END:VCALENDAR