BEGIN:VCALENDAR
VERSION:2.0
PRODID:-//Sofia Gymnastikförening - ECPv6.10.2//NONSGML v1.0//EN
CALSCALE:GREGORIAN
METHOD:PUBLISH
X-WR-CALNAME:Sofia Gymnastikförening
X-ORIGINAL-URL:https://sofiagf.se
X-WR-CALDESC:Events for Sofia Gymnastikförening
REFRESH-INTERVAL;VALUE=DURATION:PT1H
X-Robots-Tag:noindex
X-PUBLISHED-TTL:PT1H
BEGIN:VTIMEZONE
TZID:Europe/Stockholm
BEGIN:DAYLIGHT
TZOFFSETFROM:+0100
TZOFFSETTO:+0200
TZNAME:CEST
DTSTART:20260329T010000
END:DAYLIGHT
BEGIN:STANDARD
TZOFFSETFROM:+0200
TZOFFSETTO:+0100
TZNAME:CET
DTSTART:20261025T010000
END:STANDARD
END:VTIMEZONE
BEGIN:VEVENT
DTSTART;VALUE=DATE:20260725
DTEND;VALUE=DATE:20260802
DTSTAMP:20260426T055115
CREATED:20251118T093634Z
LAST-MODIFIED:20251124T134931Z
UID:4037-1784937600-1785628799@sofiagf.se
SUMMARY:Sommarläger: Italien 2026
DESCRIPTION:Sommarläger i Italien:\nInbjudna gymnaster: Junior- och ungdomsgymnaster. Gymnaster födda 2004-2013.\n\nGå vidare till bokningen och mer info om respektive läger.\n\n\nBokning läger 2026
URL:https://sofiagf.se/evenemang/sommarlager-italien-2026/
CATEGORIES:Lägerverksamhet
ATTACH;FMTTYPE=image/jpeg:https://sofiagf.se/wp-content/uploads/2023/05/Sommarens-lagerverksamhet.jpeg
END:VEVENT
END:VCALENDAR