BEGIN:VCALENDAR
VERSION:2.0
PRODID:-//Sofia Gymnastikförening - ECPv6.10.2//NONSGML v1.0//EN
CALSCALE:GREGORIAN
METHOD:PUBLISH
X-ORIGINAL-URL:https://sofiagf.se
X-WR-CALDESC:Events for Sofia Gymnastikförening
REFRESH-INTERVAL;VALUE=DURATION:PT1H
X-Robots-Tag:noindex
X-PUBLISHED-TTL:PT1H
BEGIN:VTIMEZONE
TZID:Europe/Stockholm
BEGIN:DAYLIGHT
TZOFFSETFROM:+0100
TZOFFSETTO:+0200
TZNAME:CEST
DTSTART:20260329T010000
END:DAYLIGHT
BEGIN:STANDARD
TZOFFSETFROM:+0200
TZOFFSETTO:+0100
TZNAME:CET
DTSTART:20261025T010000
END:STANDARD
END:VTIMEZONE
BEGIN:VEVENT
DTSTART;VALUE=DATE:20260612
DTEND;VALUE=DATE:20260617
DTSTAMP:20260426T025220
CREATED:20251118T093233Z
LAST-MODIFIED:20251118T093233Z
UID:4033-1781222400-1781654399@sofiagf.se
SUMMARY:Sommarläger: Katrineholm 2026
DESCRIPTION:Välkommen på sommarläger i Katrineholm!\nEndast för medlemmar. \nInformation \n\nDatum: 12-16 juni\nPlats: Duveholmshallen\, Katrineholm\nInbjudna: medlemmar födda 2016 och tidigare\n\nMer information skickas ut på mejl under vårterminen 2025.
URL:https://sofiagf.se/evenemang/sommarlager-katrineholm-2026/
CATEGORIES:Lägerverksamhet
ATTACH;FMTTYPE=image/jpeg:https://sofiagf.se/wp-content/uploads/2023/05/Sommarens-lagerverksamhet.jpeg
END:VEVENT
BEGIN:VEVENT
DTSTART;VALUE=DATE:20260622
DTEND;VALUE=DATE:20260627
DTSTAMP:20260426T025220
CREATED:20251118T093350Z
LAST-MODIFIED:20260210T111633Z
UID:4035-1782086400-1782518399@sofiagf.se
SUMMARY:Sommarläger: Lillsved 2026
DESCRIPTION:Välkommen på sommarläger på Lillsved!\nEndast för medlemmar. \nInformation \n\nDatum: 22-26 juni\nPlats: Lillsved\nInbjudna: medlemmar födda 2017 och tidigare\n\nMer information skickas ut på mejl under vårterminen 2026.
URL:https://sofiagf.se/evenemang/sommarlager-lillsved-2026/
CATEGORIES:Lägerverksamhet
ATTACH;FMTTYPE=image/jpeg:https://sofiagf.se/wp-content/uploads/2023/05/Sommarens-lagerverksamhet.jpeg
END:VEVENT
END:VCALENDAR