BEGIN:VCALENDAR
VERSION:2.0
PRODID:-//Sofia Gymnastikförening - ECPv6.10.2//NONSGML v1.0//EN
CALSCALE:GREGORIAN
METHOD:PUBLISH
X-WR-CALNAME:Sofia Gymnastikförening
X-ORIGINAL-URL:https://sofiagf.se
X-WR-CALDESC:Events for Sofia Gymnastikförening
REFRESH-INTERVAL;VALUE=DURATION:PT1H
X-Robots-Tag:noindex
X-PUBLISHED-TTL:PT1H
BEGIN:VTIMEZONE
TZID:Europe/Stockholm
BEGIN:DAYLIGHT
TZOFFSETFROM:+0100
TZOFFSETTO:+0200
TZNAME:CEST
DTSTART:20260329T010000
END:DAYLIGHT
BEGIN:STANDARD
TZOFFSETFROM:+0200
TZOFFSETTO:+0100
TZNAME:CET
DTSTART:20261025T010000
END:STANDARD
END:VTIMEZONE
BEGIN:VEVENT
DTSTART;VALUE=DATE:20260425
DTEND;VALUE=DATE:20260427
DTSTAMP:20260426T023356
CREATED:20251118T092841Z
LAST-MODIFIED:20251118T092906Z
UID:4031-1777075200-1777247999@sofiagf.se
SUMMARY:Sofiamästerskapet 2026
DESCRIPTION:Välkomna till Sofiamästerskapet 2026! \nMer info om vår föreningstävling publiceras under hemsidans arrangemangs-flik.
URL:https://sofiagf.se/evenemang/sofiamasterskapet-2026/
LOCATION:Enskedehallen\, Simlångsvägen 50\, Årsta
CATEGORIES:Tävling,Uppvisning
ATTACH;FMTTYPE=image/jpeg:https://sofiagf.se/wp-content/uploads/2024/09/image00250-1-1.jpeg
END:VEVENT
END:VCALENDAR